BEGIN:VCALENDAR
VERSION:2.0
PRODID:-//Tukios.com/
BEGIN:VEVENT
UID:6e8c09c7-3667-48fa-889e-73ffbcc33e71@www.casefuneralhome.com
DTSTAMP:20260420T200124Z
DTSTART:20260523T160000Z
DTEND:20260523T170000Z
SUMMARY:Celebration of Life
DESCRIPTION:
URL:https://www.casefuneralhome.com/obituaries/rae-ann-eitel
LOCATION:Tobacco Ranch Event Venue 1601 North Mc Ewan Street  Clare MI 
	48617
GEO:43.8309799;-84.7694
END:VEVENT
END:VCALENDAR