BEGIN:VCALENDAR
VERSION:2.0
PRODID:-//Tukios.com/
BEGIN:VEVENT
UID:e7a40683-d0c0-4b48-a4dc-9efa90f520fb@www.casefuneralhome.com
DTSTAMP:20260425T010316Z
DTSTART:20260505T140000Z
DTEND:20260505T150000Z
SUMMARY:Visitation
DESCRIPTION:
URL:https://www.casefuneralhome.com/obituaries/paul-anthony-lopez
LOCATION:W. L. Case and Company 4480 Mackinaw Road  Saginaw MI 48603
GEO:43.4504508;-83.9943519
END:VEVENT
END:VCALENDAR