BEGIN:VCALENDAR
VERSION:2.0
PRODID:-//Tukios.com/
BEGIN:VEVENT
UID:87a043f7-3c45-408b-b4ad-4c2685b9fcdc@www.casefuneralhome.com
DTSTAMP:20260425T010441Z
DTSTART:20260505T150000Z
DTEND:20260505T160000Z
SUMMARY:Memorial Service
DESCRIPTION:
URL:https://www.casefuneralhome.com/obituaries/paul-anthony-lopez
LOCATION:W. L. Case and Company 4480 Mackinaw Road  Saginaw MI 48603
GEO:43.4504508;-83.9943519
END:VEVENT
END:VCALENDAR