BEGIN:VCALENDAR
VERSION:2.0
PRODID:-//Tukios.com/
BEGIN:VEVENT
UID:1a19130c-25fb-44cd-a0ee-39a65fefe993@www.casefuneralhome.com
DTSTAMP:20260424T041736Z
DTSTART:20260429
SUMMARY:Committal Service
DESCRIPTION:
URL:https://www.casefuneralhome.com/obituaries/lois-kreager
LOCATION: 381 St. Andrews Road  Saginaw MI 48638
GEO:43.4117891;-84.0314328
END:VEVENT
END:VCALENDAR