BEGIN:VCALENDAR
VERSION:2.0
PRODID:-//Tukios.com/
BEGIN:VEVENT
UID:dbf0aaa9-5d5f-45d1-a799-60af18aa3b2e@www.casefuneralhome.com
DTSTAMP:20260424T042318Z
DTSTART:20260429T150000Z
DTEND:20260429T160000Z
SUMMARY:Funeral Liturgy
DESCRIPTION:
URL:https://www.casefuneralhome.com/obituaries/lois-kreager
LOCATION: 2445 N. Charles Street  Saginaw MI 48602
GEO:43.4416801;-83.9686233
END:VEVENT
END:VCALENDAR