BEGIN:VCALENDAR
VERSION:2.0
PRODID:-//Tukios.com/
BEGIN:VEVENT
UID:c984dbaa-c942-4ea1-af6b-ed20d35f6465@www.casefuneralhome.com
DTSTAMP:20260424T041754Z
DTSTART:20260429T140000Z
DTEND:20260429T150000Z
SUMMARY:Visitation
DESCRIPTION:
URL:https://www.casefuneralhome.com/obituaries/lois-kreager
LOCATION: 2445 N. Charles Street  Saginaw MI 48602
GEO:43.4416801;-83.9686233
END:VEVENT
END:VCALENDAR