BEGIN:VCALENDAR
VERSION:2.0
PRODID:-//Tukios.com/
BEGIN:VEVENT
UID:b7166080-a683-40e3-aecb-acf75bd60e9d@www.casefuneralhome.com
DTSTAMP:20260424T041754Z
DTSTART:20260428T230000Z
DTEND:20260429T000000Z
SUMMARY:Vigil Service
DESCRIPTION:
URL:https://www.casefuneralhome.com/obituaries/lois-kreager
LOCATION: 4480 Mackinaw Rd.  Saginaw MI 48603
GEO:43.4504625;-83.9943152
END:VEVENT
END:VCALENDAR