BEGIN:VCALENDAR
VERSION:2.0
PRODID:-//Tukios.com/
BEGIN:VEVENT
UID:2b56c8ac-4ea7-4a45-96ce-241d8a7c762a@www.casefuneralhome.com
DTSTAMP:20260424T042411Z
DTSTART:20260428T160000Z
DTEND:20260428T230000Z
SUMMARY:Visitation
DESCRIPTION:
URL:https://www.casefuneralhome.com/obituaries/lois-kreager
LOCATION: 4480 Mackinaw Rd.  Saginaw MI 48603
GEO:43.4504625;-83.9943152
END:VEVENT
END:VCALENDAR