BEGIN:VCALENDAR
VERSION:2.0
PRODID:-//Tukios.com/
BEGIN:VEVENT
UID:be8f524d-db23-4a4f-99cc-c243ad2e07a6@www.casefuneralhome.com
DTSTAMP:20260424T222906Z
DTSTART:20260501T180000Z
DTEND:20260501T190000Z
SUMMARY:Graveside Service
DESCRIPTION:
URL:https://www.casefuneralhome.com/obituaries/debra-reetz
LOCATION:Bethlehem Lutheran Cemetery 3356 Hermansau Rd  Saginaw MI 48603
GEO:43.4551772;-83.9573923
END:VEVENT
END:VCALENDAR