BEGIN:VCALENDAR
VERSION:2.0
PRODID:-//Tukios.com/
BEGIN:VEVENT
UID:d038590a-06f3-4230-8f4e-287887841880@www.casefuneralhome.com
DTSTAMP:20260424T222547Z
DTSTART:20260501T170000Z
DTEND:20260501T180000Z
SUMMARY:Funeral Service
DESCRIPTION:
URL:https://www.casefuneralhome.com/obituaries/debra-reetz
LOCATION: 4480 Mackinaw Rd  Saginaw MI 48603
GEO:43.4504508;-83.9943519
END:VEVENT
END:VCALENDAR