BEGIN:VCALENDAR
VERSION:2.0
PRODID:-//Tukios.com/
BEGIN:VEVENT
UID:1a0fe9a7-58e3-4c3e-b17b-fe0d3ba0bc39@www.casefuneralhome.com
DTSTAMP:20260425T012147Z
DTSTART:20260429T150000Z
DTEND:20260429T160000Z
SUMMARY:Visitation
DESCRIPTION:
URL:https://www.casefuneralhome.com/obituaries/deanna-coon
LOCATION: 1123 W. Walnut St.  St. Charles MI 48655
GEO:43.2974654;-84.1627618
END:VEVENT
END:VCALENDAR