BEGIN:VCALENDAR
VERSION:2.0
PRODID:-//Tukios.com/
BEGIN:VEVENT
UID:d23e430c-923f-421c-abd1-9a33e3337c30@www.casefuneralhome.com
DTSTAMP:20260425T012514Z
DTSTART:20260429T160000Z
DTEND:20260429T170000Z
SUMMARY:Memorial Service
DESCRIPTION:
URL:https://www.casefuneralhome.com/obituaries/deanna-coon
LOCATION: 1123 W. Walnut St.  St. Charles MI 48655
GEO:43.2974654;-84.1627618
END:VEVENT
END:VCALENDAR