BEGIN:VCALENDAR
VERSION:2.0
PRODID:-//Tukios.com/
BEGIN:VEVENT
UID:52f88817-e232-4b2c-957a-fb7aeddc9d4b@www.casefuneralhome.com
DTSTAMP:20260425T012340Z
DTSTART:20260428T180000Z
DTEND:20260429T000000Z
SUMMARY:Visitation
DESCRIPTION:
URL:https://www.casefuneralhome.com/obituaries/deanna-coon
LOCATION: 1123 W. Walnut St.  St. Charles MI 48655
GEO:43.2974654;-84.1627618
END:VEVENT
END:VCALENDAR