BEGIN:VCALENDAR
VERSION:2.0
PRODID:-//Tukios.com/
BEGIN:VEVENT
UID:7c193590-8102-486c-88f7-defc68dbe7ad@www.casefuneralhome.com
DTSTAMP:20260421T022121Z
DTSTART:20260423T190000Z
DTEND:20260423T200000Z
SUMMARY:Princess Ball
DESCRIPTION:
URL:https://www.casefuneralhome.com/obituaries/alexandra-amber-gibelyou
LOCATION: 4480 Mackinaw Rd  Saginaw MI 48603
GEO:43.4504508;-83.9943519
END:VEVENT
END:VCALENDAR