BEGIN:VCALENDAR
VERSION:2.0
PRODID:-//Tukios.com/
BEGIN:VEVENT
UID:099abce8-00d4-410d-9d74-368e5f0b24bc@www.casefuneralhome.com
DTSTAMP:20260421T022005Z
DTSTART:20260423T160000Z
DTEND:20260423T190000Z
SUMMARY:Visitation
DESCRIPTION:
URL:https://www.casefuneralhome.com/obituaries/alexandra-amber-gibelyou
LOCATION: 4480 Mackinaw Rd  Saginaw MI 48603
GEO:43.4504508;-83.9943519
END:VEVENT
END:VCALENDAR