BEGIN:VCALENDAR
VERSION:2.0
PRODID:-//Tukios.com/
BEGIN:VEVENT
UID:ec15f105-6a8d-4529-96ef-b2715eaa50e3@www.casefuneralhome.com
DTSTAMP:20260422T204804Z
DTSTART:20260425T160000Z
DTEND:20260425T190000Z
SUMMARY:Visitation
DESCRIPTION:
URL:https://www.casefuneralhome.com/obituaries/alberto-bee-allen
LOCATION: 4480 Mackinaw Rd  Saginaw MI 48603
GEO:43.4504508;-83.9943519
END:VEVENT
END:VCALENDAR