BEGIN:VCALENDAR
VERSION:2.0
PRODID:-//Tukios.com/
BEGIN:VEVENT
UID:cbe0c075-63c7-445d-ab11-977e4bf9bc2c@www.casefuneralhome.com
DTSTAMP:20260422T204813Z
DTSTART:20260425T190000Z
DTEND:20260425T200000Z
SUMMARY:Funeral Service
DESCRIPTION:
URL:https://www.casefuneralhome.com/obituaries/alberto-bee-allen
LOCATION: 4480 Mackinaw Rd  Saginaw MI 48603
GEO:43.4504508;-83.9943519
END:VEVENT
END:VCALENDAR